BEGIN:VCALENDAR
VERSION:2.0
PRODID:-//Front Room Theatre - ECPv6.15.14//NONSGML v1.0//EN
CALSCALE:GREGORIAN
METHOD:PUBLISH
X-WR-CALNAME:Front Room Theatre
X-ORIGINAL-URL:https://frontroomwsm.com
X-WR-CALDESC:Events for Front Room Theatre
REFRESH-INTERVAL;VALUE=DURATION:PT1H
X-Robots-Tag:noindex
X-PUBLISHED-TTL:PT1H
BEGIN:VTIMEZONE
TZID:UTC
BEGIN:STANDARD
TZOFFSETFROM:+0000
TZOFFSETTO:+0000
TZNAME:UTC
DTSTART:20250101T000000
END:STANDARD
END:VTIMEZONE
BEGIN:VEVENT
DTSTART;TZID=UTC:20260416T193000
DTEND;TZID=UTC:20260416T210000
DTSTAMP:20260423T041215
CREATED:20260105T121602Z
LAST-MODIFIED:20260128T150741Z
UID:2134-1776367800-1776373200@frontroomwsm.com
SUMMARY:The Lost Trades
DESCRIPTION:The Lost Trades are a Folk/Americana Trio\, based in the West Country\, with a cool Laurel Canyon vibe. With a sound that is reminiscent of the California folk scene of the late 60s/early 70s\, their three part harmonies have been described as “flawless”\, “spine tingling” and “magical”. \nAfter a global pandemic cut short their first tour after just a single sold out gig\, the band retreated to their songwriting rooms to work on their debut album\, “The Bird\, The Book & The Barrel”. The album was released in June 2021 and was well received\, spending 8 months in the Official UK Folk Albums Chart. The follow up\, “Petrichor” was released in March 2023\, and immediately followed suit\, entering the chart at #31. \nA live performance involves easy interchanging of instruments\, including guitar\, ukulele\, bass and percussion at different points. There’s always a fun intimacy to the show\, with the group engaging in comfortable repartee with each other and the audience like a group of old friends. \n\n\n\nEvent Details\nDoors Open at 7:00PM\nFrom 7:30PM to 9:00PM
URL:https://frontroomwsm.com/event/the-lost-trades
CATEGORIES:Music
ATTACH;FMTTYPE=image/jpeg:https://frontroomwsm.com/wp-content/uploads/2026/01/Family-6.jpg
END:VEVENT
BEGIN:VEVENT
DTSTART;TZID=UTC:20260411T193000
DTEND;TZID=UTC:20260411T203000
DTSTAMP:20260423T041215
CREATED:20251126T124505Z
LAST-MODIFIED:20260128T150926Z
UID:2098-1775935800-1775939400@frontroomwsm.com
SUMMARY:Any Objections?
DESCRIPTION:Scarlett Smith is an electroacoustic harpist and comedian. Tired of the harps demure\, classical reputation\, Scarlett’s debut solo show Any Objections? is a surreal quest to prove this instrument belongs far beyond the Orchestra pit. \nBlending live looping covers of popular songs\, self- produced indie-pop jingles and fast paced punch lines\, the show is a playful celebration of creativity and harp innovation. Expect wedding industry musings\, a fateful boat trip and an interactive gameshow in this whimsical world where chaos meets creativity. \n“Smith creates a world of inclusivity and creativity like no other”★★★★★\nTheatre in Brighton“Imagine if KT Tunstall and Bo Burnham had a baby\, that would describe Scarlett Smith”★★★★1/2  tonylovesthefringe\n“Expect to find a smile transfixed to your face for the full hour” – Broadway Baby\n***Edinburgh Fringe 2025 Sell Out Show*** \n​Any Objections? Trailer​​​ \n\n\n\nEvent Details\nDoors Open at 7:00PM\nFrom 7:30PM to 8:30PM
URL:https://frontroomwsm.com/event/any-objections-2
CATEGORIES:Comedy,Music
ATTACH;FMTTYPE=image/jpeg:https://frontroomwsm.com/wp-content/uploads/2026/01/Family-3.jpg
END:VEVENT
BEGIN:VEVENT
DTSTART;TZID=UTC:20260328T193000
DTEND;TZID=UTC:20260328T210000
DTSTAMP:20260423T041215
CREATED:20251116T175414Z
LAST-MODIFIED:20260128T151052Z
UID:2083-1774726200-1774731600@frontroomwsm.com
SUMMARY:Man At Sea
DESCRIPTION:Man at Sea is a singer-songwriter in the classic sense. Crafting songs at the piano reminiscent of Rufus Wainwright or solo Thom Yorke\, this is sophisticated song writing that weaves melody with lyric\, taking cues from the great songwriters. His background in theatre is never far away\, his songs often telling stories about the strangeness of life and the human condition. \nHailing from a small village on the Isle of Wight\, where the sea served as a constant muse\, his passion for song writing blossomed at a young age. Relocating to Bristol\, he embraced the moniker Man at Sea and began captivating local audiences with his stripped-back\, intimate performances at the piano. \nAfter a resurgent desire to reignite his song writing career\, 2023 saw the release of three brand new acclaimed singles\, culminating in his first full professional EP ‘Love & Anxiety‘. His TikTok page amassed over 12\,000 followers in the space of a few months. \nRecent shows include a SOLD OUT gig at the Bristol Fringe\, a tour in Germany/London in the summer of 2024 and a homecoming gig on the Isle of Wight. \n2026 marks a new chapter with the release of new singles from his forthcoming studio album ‘Pale Fire Catch Me’ (March 2026) and a UK tour early 2026. \nOn the record Man at Sea says: “I’m incredibly excited at the prospect of releasing my first full length record. Despite the change in people’s listening habits\, I have always held the album to be one of the greatest artforms. My debut will be a chance to show the versatility of my songwriting style; ranging from piano ballads to anthemic indie rock. I think my audience will be surprised at the range and scope on there!” \n\n\n\nEvent Details\nDoors Open at 7:00PM\nFrom 7:30PM to 9:00PM
URL:https://frontroomwsm.com/event/man-at-sea
CATEGORIES:Music
ATTACH;FMTTYPE=image/jpeg:https://frontroomwsm.com/wp-content/uploads/2026/01/Family-4.jpg
END:VEVENT
BEGIN:VEVENT
DTSTART;TZID=UTC:20260325T193000
DTEND;TZID=UTC:20260325T203000
DTSTAMP:20260423T041215
CREATED:20260304T115543Z
LAST-MODIFIED:20260304T115543Z
UID:2346-1774467000-1774470600@frontroomwsm.com
SUMMARY:After the Glitter Fades
DESCRIPTION:University Centre Weston’s second year BA (Hons) Musical Theatre students proudly present After the Glitter Fades. \nThis performance follows the journey of Ivy\, a young performer battling self-doubt and fear after bullies attempt to undermine her confidence and ruin her chances of auditioning. With the guidance and support of a mentor\, Ivy begins to confront her fears\, rediscover her belief in herself\, and find the courage to step forward and put herself forward for an audition – all set to the classic hits of Stevie Nicks\, including Edge of Seventeen\, After the Glitter Fades\, Talk to Me\, and more. \nCome along and follow Ivy’s journey of resilience\, growth\, and self-acceptance. A heartfelt and uplifting performance you won’t want to miss. \n\n\nEvent Details\nDoors Open at 7:00PM\nFrom 7:30PM to 8:30PM
URL:https://frontroomwsm.com/event/after-the-glitter-fades
CATEGORIES:Community,Music,Theatre
ATTACH;FMTTYPE=image/jpeg:https://frontroomwsm.com/wp-content/uploads/2026/03/Family-9.jpg
END:VEVENT
BEGIN:VEVENT
DTSTART;TZID=UTC:20260320T193000
DTEND;TZID=UTC:20260320T213000
DTSTAMP:20260423T041215
CREATED:20250806T120951Z
LAST-MODIFIED:20260128T151247Z
UID:1908-1774035000-1774042200@frontroomwsm.com
SUMMARY:Albino Tarantino
DESCRIPTION:Slinky Latin tinged roots and Groove four piece Albino Tarantino will get your souls swaying and your heart jumping. \nImagine a night out with Ry Cooder and JJ Cale to see Santana play down on the bayou. Who’d want to miss that!?! \nOne of Stroud’s hottest live bands comes to Weston for a gig that promises to be blissful.
URL:https://frontroomwsm.com/event/albino-tarantino
CATEGORIES:Music
ATTACH;FMTTYPE=image/jpeg:https://frontroomwsm.com/wp-content/uploads/2026/01/Family-5.jpg
END:VEVENT
BEGIN:VEVENT
DTSTART;TZID=UTC:20260204T193000
DTEND;TZID=UTC:20260204T220000
DTSTAMP:20260423T041215
CREATED:20251210T152204Z
LAST-MODIFIED:20260128T152733Z
UID:2115-1770233400-1770242400@frontroomwsm.com
SUMMARY:From The Mud Cabaret
DESCRIPTION:From The Mud presents: A cabaret night featuring a variety of weird and wonderful performances from artists of Weston-Super-Mare.\n\nMusic\, jokes\, drama\, poetry – acts that defy description. Anything could happen!Weston’s finest cabaret started back in 2021 on zoom\, and snowballed into monthly sell-out live events at The Stable Games Room. Now at Front Room WsM\, each show features a different cast taking to the stage to delight and entertain. Join us this month for an evening like no other! \nFrom The Mud is a collective of early career performance artists making work in work in Weston-super-Mare. The acts vary from classic favourites to exciting and experimental new work\, all coming together in an explosive and bizarre evening of entertainment! \nThe doors will open at 7pm for the show to start at 7:30pm. \nSome of our content is not suitable for young audiences\, we recommend 16+ only. \n\n\n\nEvent Details\nDoors Open at 7:00PM\nStarts at 7:30PM
URL:https://frontroomwsm.com/event/from-the-mud-cabaret-3
CATEGORIES:Comedy,Community,Music,Theatre
ATTACH;FMTTYPE=image/jpeg:https://frontroomwsm.com/wp-content/uploads/2026/01/Family-22.jpg
END:VEVENT
END:VCALENDAR