BEGIN:VCALENDAR
VERSION:2.0
PRODID:-//Front Room Theatre - ECPv6.15.14//NONSGML v1.0//EN
CALSCALE:GREGORIAN
METHOD:PUBLISH
X-ORIGINAL-URL:https://frontroomwsm.com
X-WR-CALDESC:Events for Front Room Theatre
REFRESH-INTERVAL;VALUE=DURATION:PT1H
X-Robots-Tag:noindex
X-PUBLISHED-TTL:PT1H
BEGIN:VTIMEZONE
TZID:UTC
BEGIN:STANDARD
TZOFFSETFROM:+0000
TZOFFSETTO:+0000
TZNAME:UTC
DTSTART:20250101T000000
END:STANDARD
END:VTIMEZONE
BEGIN:VEVENT
DTSTART;TZID=UTC:20260131T193000
DTEND;TZID=UTC:20260131T210000
DTSTAMP:20260422T095953
CREATED:20251116T174525Z
LAST-MODIFIED:20260128T152820Z
UID:2075-1769887800-1769893200@frontroomwsm.com
SUMMARY:Nate Kitch - Something Different!!!!
DESCRIPTION:Nate Kitch is back with his absurd & alternative quad-award-nominated sold out Edinburgh Fringe show Something Different!!!!!\n“It’s sort of about Charlatans\, voices and a Rasputin book that\, as it stands\, I haven’t read. There are big laughs\, lulls\, shouting and faffing. Oh and I have got a hat.”\n“Comedy Masterclass”***** The Scotsman\n“a love letter to comedy.. breaking the form and building laughs that come from out of nowhere..my cheeks ache from laughing at something utterly different” ***** Entertainment Now\n“Unique..pushing at the boundaries of what stand up comedy can be defined as”Chortle\n“Postmodern yet oldschool..this could be as fringey as it gets”**** The List\n“absurdist & not funny..I wasn’t very impressed.” arrse.co.uk\n(the unofficial voice of the british army)\n\n\nEvent Details\nDoors Open at 7:00PM\nFrom 7:30PM to 9:00PM
URL:https://frontroomwsm.com/event/nate-kitch-something-different
CATEGORIES:Comedy
ATTACH;FMTTYPE=image/jpeg:https://frontroomwsm.com/wp-content/uploads/2026/01/Family-25.jpg
END:VEVENT
END:VCALENDAR