BEGIN:VCALENDAR
VERSION:2.0
PRODID:-//Front Room Theatre - ECPv6.15.14//NONSGML v1.0//EN
CALSCALE:GREGORIAN
METHOD:PUBLISH
X-WR-CALNAME:Front Room Theatre
X-ORIGINAL-URL:https://frontroomwsm.com
X-WR-CALDESC:Events for Front Room Theatre
REFRESH-INTERVAL;VALUE=DURATION:PT1H
X-Robots-Tag:noindex
X-PUBLISHED-TTL:PT1H
BEGIN:VTIMEZONE
TZID:UTC
BEGIN:STANDARD
TZOFFSETFROM:+0000
TZOFFSETTO:+0000
TZNAME:UTC
DTSTART:20250101T000000
END:STANDARD
END:VTIMEZONE
BEGIN:VEVENT
DTSTART;TZID=UTC:20261004T143000
DTEND;TZID=UTC:20261004T154500
DTSTAMP:20260423T131929
CREATED:20260422T160626Z
LAST-MODIFIED:20260422T160626Z
UID:2495-1791124200-1791128700@frontroomwsm.com
SUMMARY:Yin Yoga and Mindfulness with Charlotte Gee
DESCRIPTION:A calming blend of yin yoga\, breath work and guided meditation\, inviting you to slow down\, switch off and turn inward. This practice helps you reconnect with your body\, cultivate present-moment awareness\, and restore balance and emotional clarity. \nWhat can you expect in these workshops?\nGentle physical activity.\nGuided meditation – a space to relax.\nTo leave with a sense of calm. \nYou will need…\nComfy clothes you can move in.\nA yoga mat if you have one! \nThis workshop is for all adults. There is no pressure to be skilled or experienced. This is not a performance workshop\, or a workout class – just a space to reconnect with yourself and your peace in a supportive\, pressure free environment!
URL:https://frontroomwsm.com/event/yin-yoga-and-mindfulness-with-charlotte-gee-2
CATEGORIES:Community
ATTACH;FMTTYPE=image/jpeg:https://frontroomwsm.com/wp-content/uploads/2026/04/Family-44.jpg
END:VEVENT
END:VCALENDAR