BEGIN:VCALENDAR
VERSION:2.0
PRODID:-//Front Room Theatre - ECPv6.15.14//NONSGML v1.0//EN
CALSCALE:GREGORIAN
METHOD:PUBLISH
X-WR-CALNAME:Front Room Theatre
X-ORIGINAL-URL:https://frontroomwsm.com
X-WR-CALDESC:Events for Front Room Theatre
REFRESH-INTERVAL;VALUE=DURATION:PT1H
X-Robots-Tag:noindex
X-PUBLISHED-TTL:PT1H
BEGIN:VTIMEZONE
TZID:UTC
BEGIN:STANDARD
TZOFFSETFROM:+0000
TZOFFSETTO:+0000
TZNAME:UTC
DTSTART:20250101T000000
END:STANDARD
END:VTIMEZONE
BEGIN:VEVENT
DTSTART;TZID=UTC:20260413T130000
DTEND;TZID=UTC:20260413T140000
DTSTAMP:20260421T101900
CREATED:20260112T150217Z
LAST-MODIFIED:20260128T150841Z
UID:2185-1776085200-1776088800@frontroomwsm.com
SUMMARY:The Ultimate Bubble Show
DESCRIPTION:Ray Bubbles\, International Bubbleologist and Guinness World Record Holder\, is on a mission to master the art of bubble-making and create the ultimate square bubble! \nThis show promises a whirlwind of excitement and surprises\, as Ray uses various different gases to craft stunning bubble sculptures\, effects\, and magical displays. \nPrepare to be amazed as Ray creates a volcano bubble\, a soap bubble carousel\, a bubble ghost\, and even a tornado inside a bubble! \nThe show was inspired by Ray’s work with SEND schools\, adult neurodivergent groups\, and science centres across Europe. \nThe performance is suitable for children and adults with additional needs. \nJoin Ray and see if he can create the ultimate square bubble!
URL:https://frontroomwsm.com/event/the-ultimate-bubble-show-2
CATEGORIES:Family
ATTACH;FMTTYPE=image/jpeg:https://frontroomwsm.com/wp-content/uploads/2026/01/Family-38.jpg
END:VEVENT
END:VCALENDAR