BEGIN:VCALENDAR
VERSION:2.0
PRODID:-//Front Room Theatre - ECPv6.15.14//NONSGML v1.0//EN
CALSCALE:GREGORIAN
METHOD:PUBLISH
X-WR-CALNAME:Front Room Theatre
X-ORIGINAL-URL:https://frontroomwsm.com
X-WR-CALDESC:Events for Front Room Theatre
REFRESH-INTERVAL;VALUE=DURATION:PT1H
X-Robots-Tag:noindex
X-PUBLISHED-TTL:PT1H
BEGIN:VTIMEZONE
TZID:UTC
BEGIN:STANDARD
TZOFFSETFROM:+0000
TZOFFSETTO:+0000
TZNAME:UTC
DTSTART:20250101T000000
END:STANDARD
END:VTIMEZONE
BEGIN:VEVENT
DTSTART;TZID=UTC:20260501T143000
DTEND;TZID=UTC:20260501T153000
DTSTAMP:20260422T184242
CREATED:20260422T161930Z
LAST-MODIFIED:20260422T161930Z
UID:2497-1777645800-1777649400@frontroomwsm.com
SUMMARY:Sing and Smile
DESCRIPTION:We are singing on Fridays! \nCome along and join us for our Sing and Smile session – a friendly\, informal sing-a-long\, which brings local people together through music\, laughter and connection. \nThese sessions are all about enjoying music together and sharing a joyful hour in good company. We’d love to see you there! \n£5 per person (all profits go towards funding dementia-friendly activities in our local community)\n \n\n\nEvent Details\nDoors Open at 1:45PM\nFrom 2:30PM to 3:30PM
URL:https://frontroomwsm.com/event/sing-and-smile
CATEGORIES:Community
ATTACH;FMTTYPE=image/jpeg:https://frontroomwsm.com/wp-content/uploads/2026/04/Family-45.jpg
END:VEVENT
END:VCALENDAR