BEGIN:VCALENDAR
VERSION:2.0
PRODID:-//Front Room Theatre - ECPv6.15.14//NONSGML v1.0//EN
CALSCALE:GREGORIAN
METHOD:PUBLISH
X-WR-CALNAME:Front Room Theatre
X-ORIGINAL-URL:https://frontroomwsm.com
X-WR-CALDESC:Events for Front Room Theatre
REFRESH-INTERVAL;VALUE=DURATION:PT1H
X-Robots-Tag:noindex
X-PUBLISHED-TTL:PT1H
BEGIN:VTIMEZONE
TZID:UTC
BEGIN:STANDARD
TZOFFSETFROM:+0000
TZOFFSETTO:+0000
TZNAME:UTC
DTSTART:20250101T000000
END:STANDARD
END:VTIMEZONE
BEGIN:VEVENT
DTSTART;TZID=UTC:20260128T193000
DTEND;TZID=UTC:20260128T204500
DTSTAMP:20260424T081940
CREATED:20260112T141451Z
LAST-MODIFIED:20260128T152917Z
UID:2167-1769628600-1769633100@frontroomwsm.com
SUMMARY:Punts
DESCRIPTION:Jack’s parents will do anything to help their son feel included—even hire a prostitute. But Julia brings more than pleasure; she brings truths that will shake the family to its core. \nPerformed by the degree students from UCW\, Punts is a hilarious and moving play by Sarah Page about a young man’s sexual awakening and its effect on those who orchestrated it. \nDrawn from the playwright’s interviews with sex workers\, Punts explores love in all its complex and contradictory forms. \nJack\, a young man with a learning disability\, lives at home\, cared for by his devoted parents. Like most men in their twenties\, he has needs – his mates at the rugby club talk about nothing but getting laid\, whilst Jack’s most erotic experience to date is the time he was winked at by the pretty cashier in Lloyds. Desperate for their son to not feel left out\, his parents Alastair and Antonia decide that they should to bring in a professional. But Julia\, the prostitute they hire\, has a far more profound impact on the whole family than they could ever have imagined. \n\n\n\nEvent Details\nDoors Open at 7:00PM\nFrom 7:30PM to 8:45PM
URL:https://frontroomwsm.com/event/punts
CATEGORIES:Theatre
ATTACH;FMTTYPE=image/jpeg:https://frontroomwsm.com/wp-content/uploads/2026/01/Family-30.jpg
END:VEVENT
END:VCALENDAR