BEGIN:VCALENDAR
VERSION:2.0
PRODID:-//Front Room Theatre - ECPv6.15.14//NONSGML v1.0//EN
CALSCALE:GREGORIAN
METHOD:PUBLISH
X-WR-CALNAME:Front Room Theatre
X-ORIGINAL-URL:https://frontroomwsm.com
X-WR-CALDESC:Events for Front Room Theatre
REFRESH-INTERVAL;VALUE=DURATION:PT1H
X-Robots-Tag:noindex
X-PUBLISHED-TTL:PT1H
BEGIN:VTIMEZONE
TZID:UTC
BEGIN:STANDARD
TZOFFSETFROM:+0000
TZOFFSETTO:+0000
TZNAME:UTC
DTSTART:20250101T000000
END:STANDARD
END:VTIMEZONE
BEGIN:VEVENT
DTSTART;TZID=UTC:20260802T143000
DTEND;TZID=UTC:20260802T154500
DTSTAMP:20260423T113200
CREATED:20260422T155857Z
LAST-MODIFIED:20260422T155857Z
UID:2491-1785681000-1785685500@frontroomwsm.com
SUMMARY:Play\, Happiness & Laughter with Mia Borthwick
DESCRIPTION:On the first Sunday of every month Front Room will host a free\, guided wellbeing session for the community. Designed to be relaxed\, informal\, and a space for adults to connect with happiness\, confidence\, and themselves. \nA joyful experience designed to help you unwind & reconnect with your playful side. Led by a Happiness Facilitator\, this session uses the power of play and laughter to boost wellbeing and bring more joy into your life! \nWhat can you expect in these workshops?\nFun\, silly and simple games (think childhood games!)\nMove our bodies.\nA space to explore the joy of play! No pressure\, just curiosity! \nYou will need…\nComfy clothes you can move in (colourful clothing or clothes that make you feel happy optional!)\nA curious and open mind. \nThis workshop is for all adults! There is no pressure to be funny\, confident or loud. This is not a drama or comedy workshop – just a space to play\, laugh\, connect with others in a supportive\, pressure free environment!
URL:https://frontroomwsm.com/event/play-happiness-laughter-with-mia-borthwick-2
CATEGORIES:Community
ATTACH;FMTTYPE=image/jpeg:https://frontroomwsm.com/wp-content/uploads/2026/04/Family-43.jpg
END:VEVENT
END:VCALENDAR